BEGIN:VCALENDAR
VERSION:2.0
PRODID:icalendar-ruby
CALSCALE:GREGORIAN
METHOD:PUBLISH
BEGIN:VEVENT
DTSTAMP:20260419T145303
UID:event-125@staging.tierundtechnik.ch
DTSTART:20270225T090000
DTEND:20270228T180000
CLASS:PUBLIC
DESCRIPTION:25. Internationale Fachmesse für Nutztierhaltung\, landwirtsch
 aftliche Produktion\, Spezialkulturen und Landtechnik
LOCATION:St.Gallen
SUMMARY:Tier&Technik
END:VEVENT
END:VCALENDAR
